BEGIN:VCALENDAR
VERSION:2.0
PRODID:-//Dos Rios Golf Course - ECPv6.15.18//NONSGML v1.0//EN
CALSCALE:GREGORIAN
METHOD:PUBLISH
X-WR-CALNAME:Dos Rios Golf Course
X-ORIGINAL-URL:https://www.dosriosgolf.net
X-WR-CALDESC:Events for Dos Rios Golf Course
REFRESH-INTERVAL;VALUE=DURATION:PT1H
X-Robots-Tag:noindex
X-PUBLISHED-TTL:PT1H
BEGIN:VTIMEZONE
TZID:UTC
BEGIN:STANDARD
TZOFFSETFROM:+0000
TZOFFSETTO:+0000
TZNAME:UTC
DTSTART:20230101T000000
END:STANDARD
END:VTIMEZONE
BEGIN:VEVENT
DTSTART;TZID=UTC:20250517T090000
DTEND;TZID=UTC:20250517T170000
DTSTAMP:20260422T184114
CREATED:20250120T235640Z
LAST-MODIFIED:20250120T235640Z
UID:10000007-1747472400-1747501200@www.dosriosgolf.net
SUMMARY:Living Journey’s
DESCRIPTION:Living Journey’s Saturday\, May 17th 9:00am Shotgun 
URL:https://www.dosriosgolf.net/event/living-journeys/
END:VEVENT
BEGIN:VEVENT
DTSTART;TZID=UTC:20250505T100000
DTEND;TZID=UTC:20250505T170000
DTSTAMP:20260422T184114
CREATED:20250120T235603Z
LAST-MODIFIED:20250120T235603Z
UID:10000006-1746439200-1746464400@www.dosriosgolf.net
SUMMARY:High School Girls
DESCRIPTION:High School Girls Monday\, May 5th 10:00am Shotgun 
URL:https://www.dosriosgolf.net/event/high-school-girls/
END:VEVENT
BEGIN:VEVENT
DTSTART;TZID=UTC:20250426T100000
DTEND;TZID=UTC:20250426T170000
DTSTAMP:20260422T184114
CREATED:20250120T235524Z
LAST-MODIFIED:20250120T235524Z
UID:10000005-1745661600-1745686800@www.dosriosgolf.net
SUMMARY:Ice Breaker
DESCRIPTION:Ice Breaker 10:00amShotgun 
URL:https://www.dosriosgolf.net/event/ice-breaker/
END:VEVENT
BEGIN:VEVENT
DTSTART;TZID=UTC:20241005T100000
DTEND;TZID=UTC:20241005T100000
DTSTAMP:20260422T184114
CREATED:20240908T143645Z
LAST-MODIFIED:20240908T143645Z
UID:10000004-1728122400-1728122400@www.dosriosgolf.net
SUMMARY:Swoopfest
DESCRIPTION:
URL:https://www.dosriosgolf.net/event/swoopfest/
END:VEVENT
BEGIN:VEVENT
DTSTART;TZID=UTC:20240921T090000
DTEND;TZID=UTC:20240921T090000
DTSTAMP:20260422T184114
CREATED:20240908T143624Z
LAST-MODIFIED:20240908T143624Z
UID:10000003-1726909200-1726909200@www.dosriosgolf.net
SUMMARY:Couples	Saturday
DESCRIPTION:
URL:https://www.dosriosgolf.net/event/couplessaturday/
END:VEVENT
BEGIN:VEVENT
DTSTART;TZID=UTC:20240910T090000
DTEND;TZID=UTC:20240910T090000
DTSTAMP:20260422T184114
CREATED:20240908T143602Z
LAST-MODIFIED:20240908T143602Z
UID:10000002-1725958800-1725958800@www.dosriosgolf.net
SUMMARY:Ladies League Game Night
DESCRIPTION:
URL:https://www.dosriosgolf.net/event/ladies-league-game-night/
END:VEVENT
BEGIN:VEVENT
DTSTART;TZID=UTC:20240910T090000
DTEND;TZID=UTC:20240910T090000
DTSTAMP:20260422T184114
CREATED:20240908T143526Z
LAST-MODIFIED:20240908T143526Z
UID:10000001-1725958800-1725958800@www.dosriosgolf.net
SUMMARY:Boy’s High School
DESCRIPTION:
URL:https://www.dosriosgolf.net/event/boys-high-school/
END:VEVENT
END:VCALENDAR