BEGIN:VCALENDAR
VERSION:2.0
PRODID:-//Dos Rios Golf Course - ECPv6.15.18//NONSGML v1.0//EN
CALSCALE:GREGORIAN
METHOD:PUBLISH
X-ORIGINAL-URL:https://www.dosriosgolf.net
X-WR-CALDESC:Events for Dos Rios Golf Course
REFRESH-INTERVAL;VALUE=DURATION:PT1H
X-Robots-Tag:noindex
X-PUBLISHED-TTL:PT1H
BEGIN:VTIMEZONE
TZID:UTC
BEGIN:STANDARD
TZOFFSETFROM:+0000
TZOFFSETTO:+0000
TZNAME:UTC
DTSTART:20240101T000000
END:STANDARD
END:VTIMEZONE
BEGIN:VEVENT
DTSTART;TZID=UTC:20250505T100000
DTEND;TZID=UTC:20250505T170000
DTSTAMP:20260422T084239
CREATED:20250120T235603Z
LAST-MODIFIED:20250120T235603Z
UID:10000006-1746439200-1746464400@www.dosriosgolf.net
SUMMARY:High School Girls
DESCRIPTION:High School Girls Monday\, May 5th 10:00am Shotgun 
URL:https://www.dosriosgolf.net/event/high-school-girls/
END:VEVENT
BEGIN:VEVENT
DTSTART;TZID=UTC:20250517T090000
DTEND;TZID=UTC:20250517T170000
DTSTAMP:20260422T084239
CREATED:20250120T235640Z
LAST-MODIFIED:20250120T235640Z
UID:10000007-1747472400-1747501200@www.dosriosgolf.net
SUMMARY:Living Journey’s
DESCRIPTION:Living Journey’s Saturday\, May 17th 9:00am Shotgun 
URL:https://www.dosriosgolf.net/event/living-journeys/
END:VEVENT
BEGIN:VEVENT
DTSTART;TZID=UTC:20250531T100000
DTEND;TZID=UTC:20250531T170000
DTSTAMP:20260422T084239
CREATED:20250120T235727Z
LAST-MODIFIED:20250120T235727Z
UID:10000008-1748685600-1748710800@www.dosriosgolf.net
SUMMARY:Western Football Tournament
DESCRIPTION:Western Football Tournament Saturday\, May 31st 10:00am Shotgun 
URL:https://www.dosriosgolf.net/event/western-football-tournament/
END:VEVENT
END:VCALENDAR